Package: genomeIntervals Version: 1.64.0 Command: /home/biocbuild/R/R/bin/R CMD build --keep-empty-dirs --no-resave-data genomeIntervals StartedAt: 2025-10-14 01:05:13 -0000 (Tue, 14 Oct 2025) EndedAt: 2025-10-14 01:05:41 -0000 (Tue, 14 Oct 2025) EllapsedTime: 28.0 seconds RetCode: 0 Status: OK PackageFile: genomeIntervals_1.64.0.tar.gz PackageFileSize: 248.9 KiB