Package: genoCN Version: 1.60.0 Command: E:\biocbuild\bbs-3.21-bioc\R\bin\R.exe CMD INSTALL genoCN StartedAt: 2025-08-14 15:18:31 -0400 (Thu, 14 Aug 2025) EndedAt: 2025-08-14 15:18:44 -0400 (Thu, 14 Aug 2025) EllapsedTime: 12.3 seconds RetCode: 1 Status: ERROR