Package: genoCN Version: 1.60.0 Command: /Library/Frameworks/R.framework/Resources/bin/R CMD INSTALL genoCN StartedAt: 2025-04-21 15:03:00 -0400 (Mon, 21 Apr 2025) EndedAt: 2025-04-21 15:03:12 -0400 (Mon, 21 Apr 2025) EllapsedTime: 11.8 seconds RetCode: 1 Status: ERROR