Package: genoCN Version: 1.60.0 Command: /home/biocbuild/R/R/bin/R CMD INSTALL genoCN StartedAt: 2025-10-13 20:12:37 -0000 (Mon, 13 Oct 2025) EndedAt: 2025-10-13 20:12:45 -0000 (Mon, 13 Oct 2025) EllapsedTime: 8.1 seconds RetCode: 1 Status: ERROR