Package: genoCN Version: 1.60.0 Command: /home/biocbuild/R/R/bin/R CMD build --keep-empty-dirs --no-resave-data genoCN StartedAt: 2025-10-14 01:05:05 -0000 (Tue, 14 Oct 2025) EndedAt: 2025-10-14 01:05:07 -0000 (Tue, 14 Oct 2025) EllapsedTime: 2.0 seconds RetCode: 1 Status: ERROR PackageFile: None PackageFileSize: NA