Package: geneplast Version: 1.36.0 Command: /home/biocbuild/bbs-3.22-bioc/R/bin/R CMD check --install=check:geneplast.install-out.txt --library=/home/biocbuild/bbs-3.22-bioc/R/site-library --timings geneplast_1.36.0.tar.gz StartedAt: 2025-11-01 00:01:12 -0400 (Sat, 01 Nov 2025) EndedAt: 2025-11-01 00:02:08 -0400 (Sat, 01 Nov 2025) EllapsedTime: 56.1 seconds RetCode: 0 Status: OK CheckDir: geneplast.Rcheck Warnings: 0