Package: geneplast Version: 1.34.0 Command: /home/biocbuild/bbs-3.21-bioc/R/bin/R CMD build --keep-empty-dirs --no-resave-data geneplast StartedAt: 2025-10-15 17:38:27 -0400 (Wed, 15 Oct 2025) EndedAt: 2025-10-15 17:38:58 -0400 (Wed, 15 Oct 2025) EllapsedTime: 31.0 seconds RetCode: 0 Status: OK PackageFile: geneplast_1.34.0.tar.gz PackageFileSize: 7.073 MiB