Package: geneplast Version: 1.34.0 Command: /Library/Frameworks/R.framework/Resources/bin/R CMD INSTALL geneplast StartedAt: 2025-10-13 15:20:01 -0400 (Mon, 13 Oct 2025) EndedAt: 2025-10-13 15:20:14 -0400 (Mon, 13 Oct 2025) EllapsedTime: 12.9 seconds RetCode: 0 Status: OK