Package: geneplast Version: 1.34.0 Command: /Library/Frameworks/R.framework/Resources/bin/R CMD check --install=check:geneplast.install-out.txt --library=/Library/Frameworks/R.framework/Resources/library --no-vignettes --timings geneplast_1.34.0.tar.gz StartedAt: 2025-10-14 22:31:49 -0400 (Tue, 14 Oct 2025) EndedAt: 2025-10-14 22:32:38 -0400 (Tue, 14 Oct 2025) EllapsedTime: 49.5 seconds RetCode: 0 Status: OK CheckDir: geneplast.Rcheck Warnings: 0