Package: geneplast Version: 1.34.0 Command: rm -rf geneplast.buildbin-libdir && mkdir geneplast.buildbin-libdir && /Users/biocbuild/BBS/utils/build-universal.sh geneplast_1.34.0.tar.gz /Library/Frameworks/R.framework/Resources/bin/R geneplast.buildbin-libdir StartedAt: 2025-10-15 18:37:23 -0400 (Wed, 15 Oct 2025) EndedAt: 2025-10-15 18:37:32 -0400 (Wed, 15 Oct 2025) EllapsedTime: 8.9 seconds RetCode: 0 Status: OK PackageFile: geneplast_1.34.0.tgz PackageFileSize: 4.059 MiB