Package: genefu Version: 2.40.0 Command: E:\biocbuild\bbs-3.21-bioc\R\bin\R.exe CMD check --no-multiarch --install=check:genefu.install-out.txt --library=E:\biocbuild\bbs-3.21-bioc\R\library --no-vignettes --timings genefu_2.40.0.tar.gz StartedAt: 2025-08-15 02:28:41 -0400 (Fri, 15 Aug 2025) EndedAt: 2025-08-15 02:31:33 -0400 (Fri, 15 Aug 2025) EllapsedTime: 172.0 seconds RetCode: 0 Status: WARNINGS CheckDir: genefu.Rcheck Warnings: 1