Package: geneXtendeR Version: 1.36.0 Command: /home/biocbuild/bbs-3.22-bioc/R/bin/R CMD INSTALL geneXtendeR StartedAt: 2025-10-31 15:56:55 -0400 (Fri, 31 Oct 2025) EndedAt: 2025-10-31 15:57:46 -0400 (Fri, 31 Oct 2025) EllapsedTime: 50.7 seconds RetCode: 0 Status: OK