Package: geneXtendeR Version: 1.36.0 Command: /home/biocbuild/bbs-3.22-bioc/R/bin/R CMD check --install=check:geneXtendeR.install-out.txt --library=/home/biocbuild/bbs-3.22-bioc/R/site-library --timings geneXtendeR_1.36.0.tar.gz StartedAt: 2025-11-06 00:01:40 -0500 (Thu, 06 Nov 2025) EndedAt: 2025-11-06 00:12:03 -0500 (Thu, 06 Nov 2025) EllapsedTime: 623.6 seconds RetCode: 0 Status: WARNINGS CheckDir: geneXtendeR.Rcheck Warnings: 2