Package: geneXtendeR Version: 1.34.0 Command: /home/biocbuild/bbs-3.21-bioc/R/bin/R CMD check --install=check:geneXtendeR.install-out.txt --library=/home/biocbuild/bbs-3.21-bioc/R/site-library --timings geneXtendeR_1.34.0.tar.gz StartedAt: 2025-10-15 23:31:34 -0400 (Wed, 15 Oct 2025) EndedAt: 2025-10-15 23:42:04 -0400 (Wed, 15 Oct 2025) EllapsedTime: 629.7 seconds RetCode: 0 Status: WARNINGS CheckDir: geneXtendeR.Rcheck Warnings: 2