Package: geneXtendeR Version: 1.34.0 Command: rm -rf geneXtendeR.buildbin-libdir && mkdir geneXtendeR.buildbin-libdir && /Users/biocbuild/BBS/utils/build-universal.sh geneXtendeR_1.34.0.tar.gz /Library/Frameworks/R.framework/Resources/bin/R geneXtendeR.buildbin-libdir StartedAt: 2025-04-22 00:46:59 -0400 (Tue, 22 Apr 2025) EndedAt: 2025-04-22 00:48:10 -0400 (Tue, 22 Apr 2025) EllapsedTime: 71.6 seconds RetCode: 0 Status: OK PackageFile: geneXtendeR_1.34.0.tgz PackageFileSize: 8.419 MiB