Package: geneXtendeR Version: 1.34.0 Command: /home/biocbuild/R/R/bin/R CMD build --keep-empty-dirs --no-resave-data geneXtendeR StartedAt: 2025-10-14 01:04:58 -0000 (Tue, 14 Oct 2025) EndedAt: 2025-10-14 01:05:03 -0000 (Tue, 14 Oct 2025) EllapsedTime: 5.0 seconds RetCode: 0 Status: OK PackageFile: geneXtendeR_1.34.0.tar.gz PackageFileSize: 11.74 MiB