Package: geneXtendeR Version: 1.34.0 Command: /Library/Frameworks/R.framework/Resources/bin/R CMD check --install=check:geneXtendeR.install-out.txt --library=/Library/Frameworks/R.framework/Resources/library --no-vignettes --timings geneXtendeR_1.34.0.tar.gz StartedAt: 2025-10-10 23:27:35 -0400 (Fri, 10 Oct 2025) EndedAt: 2025-10-10 23:40:52 -0400 (Fri, 10 Oct 2025) EllapsedTime: 796.9 seconds RetCode: 0 Status: WARNINGS CheckDir: geneXtendeR.Rcheck Warnings: 2