Package: geneRecommender Version: 1.81.0 Command: F:\biocbuild\bbs-3.22-bioc\R\bin\R.exe CMD check --no-multiarch --install=check:geneRecommender.install-out.txt --library=F:\biocbuild\bbs-3.22-bioc\R\library --no-vignettes --timings geneRecommender_1.81.0.tar.gz StartedAt: 2025-08-15 03:31:23 -0400 (Fri, 15 Aug 2025) EndedAt: 2025-08-15 03:31:58 -0400 (Fri, 15 Aug 2025) EllapsedTime: 34.6 seconds RetCode: 0 Status: OK CheckDir: geneRecommender.Rcheck Warnings: 0