Package: geneRecommender Version: 1.81.0 Command: chmod a+r geneRecommender -R && F:\biocbuild\bbs-3.22-bioc\R\bin\R.exe CMD build --keep-empty-dirs --no-resave-data geneRecommender StartedAt: 2025-08-14 20:24:22 -0400 (Thu, 14 Aug 2025) EndedAt: 2025-08-14 20:24:32 -0400 (Thu, 14 Aug 2025) EllapsedTime: 10.0 seconds RetCode: 0 Status: OK PackageFile: geneRecommender_1.81.0.tar.gz PackageFileSize: 124.4 KiB