Package: geneRecommender Version: 1.81.0 Command: rm -rf geneRecommender.buildbin-libdir && mkdir geneRecommender.buildbin-libdir && F:\biocbuild\bbs-3.22-bioc\R\bin\R.exe CMD INSTALL --build --library=geneRecommender.buildbin-libdir geneRecommender_1.81.0.tar.gz StartedAt: 2025-08-15 10:20:23 -0400 (Fri, 15 Aug 2025) EndedAt: 2025-08-15 10:20:37 -0400 (Fri, 15 Aug 2025) EllapsedTime: 14.3 seconds RetCode: 0 Status: OK PackageFile: geneRecommender_1.81.0.zip PackageFileSize: 151.5 KiB