Package: geneRecommender Version: 1.82.0 Command: /Library/Frameworks/R.framework/Resources/bin/R CMD build --keep-empty-dirs --no-resave-data geneRecommender StartedAt: 2025-11-03 17:07:43 -0500 (Mon, 03 Nov 2025) EndedAt: 2025-11-03 17:07:53 -0500 (Mon, 03 Nov 2025) EllapsedTime: 10.4 seconds RetCode: 0 Status: OK PackageFile: geneRecommender_1.82.0.tar.gz PackageFileSize: 239.5 KiB