Package: geneRecommender Version: 1.82.0 Command: rm -rf geneRecommender.buildbin-libdir && mkdir geneRecommender.buildbin-libdir && /Users/biocbuild/BBS/utils/build-universal.sh geneRecommender_1.82.0.tar.gz /Library/Frameworks/R.framework/Resources/bin/R geneRecommender.buildbin-libdir StartedAt: 2025-11-04 01:41:40 -0500 (Tue, 04 Nov 2025) EndedAt: 2025-11-04 01:41:48 -0500 (Tue, 04 Nov 2025) EllapsedTime: 8.1 seconds RetCode: 0 Status: OK PackageFile: geneRecommender_1.82.0.tgz PackageFileSize: 263.4 KiB