Package: geneRecommender Version: 1.82.0 Command: /Library/Frameworks/R.framework/Resources/bin/R CMD INSTALL geneRecommender StartedAt: 2025-11-10 15:06:57 -0500 (Mon, 10 Nov 2025) EndedAt: 2025-11-10 15:06:58 -0500 (Mon, 10 Nov 2025) EllapsedTime: 1.3 seconds RetCode: 0 Status: OK