Package: geneRecommender Version: 1.82.0 Command: /Library/Frameworks/R.framework/Resources/bin/R CMD build --keep-empty-dirs --no-resave-data geneRecommender StartedAt: 2025-11-10 16:29:10 -0500 (Mon, 10 Nov 2025) EndedAt: 2025-11-10 16:29:14 -0500 (Mon, 10 Nov 2025) EllapsedTime: 4.0 seconds RetCode: 0 Status: OK PackageFile: geneRecommender_1.82.0.tar.gz PackageFileSize: 239.8 KiB