Package: geneRecommender Version: 1.82.0 Maintainer: Greg Hather MaintainerEmail: ghather at gmail.com git_url: https://git.bioconductor.org/packages/geneRecommender git_branch: RELEASE_3_22 git_last_commit: d498b6a git_last_commit_date: 2025-10-29 09:56:28 -0500 (Wed, 29 Oct 2025)