Package: geneAttribution Version: 1.34.0 Command: E:\biocbuild\bbs-3.21-bioc\R\bin\R.exe CMD check --no-multiarch --install=check:geneAttribution.install-out.txt --library=E:\biocbuild\bbs-3.21-bioc\R\library --no-vignettes --timings geneAttribution_1.34.0.tar.gz StartedAt: 2025-08-15 02:27:58 -0400 (Fri, 15 Aug 2025) EndedAt: 2025-08-15 02:33:11 -0400 (Fri, 15 Aug 2025) EllapsedTime: 312.7 seconds RetCode: 0 Status: OK CheckDir: geneAttribution.Rcheck Warnings: 0