Package: geneAttribution Version: 1.34.0 Command: rm -rf geneAttribution.buildbin-libdir && mkdir geneAttribution.buildbin-libdir && E:\biocbuild\bbs-3.21-bioc\R\bin\R.exe CMD INSTALL --build --library=geneAttribution.buildbin-libdir geneAttribution_1.34.0.tar.gz StartedAt: 2025-08-15 09:20:27 -0400 (Fri, 15 Aug 2025) EndedAt: 2025-08-15 09:21:23 -0400 (Fri, 15 Aug 2025) EllapsedTime: 55.3 seconds RetCode: 0 Status: OK PackageFile: geneAttribution_1.34.0.zip PackageFileSize: 68.85 KiB