Package: geneAttribution Version: 1.34.0 Command: /home/biocbuild/bbs-3.21-bioc/R/bin/R CMD INSTALL geneAttribution StartedAt: 2025-10-15 15:43:18 -0400 (Wed, 15 Oct 2025) EndedAt: 2025-10-15 15:43:52 -0400 (Wed, 15 Oct 2025) EllapsedTime: 33.4 seconds RetCode: 0 Status: OK