Package: geneAttribution Version: 1.34.0 Command: /home/biocbuild/bbs-3.21-bioc/R/bin/R CMD check --install=check:geneAttribution.install-out.txt --library=/home/biocbuild/bbs-3.21-bioc/R/site-library --timings geneAttribution_1.34.0.tar.gz StartedAt: 2025-10-15 23:28:14 -0400 (Wed, 15 Oct 2025) EndedAt: 2025-10-15 23:32:35 -0400 (Wed, 15 Oct 2025) EllapsedTime: 261.4 seconds RetCode: 0 Status: OK CheckDir: geneAttribution.Rcheck Warnings: 0