Package: geneAttribution Version: 1.34.0 Command: /home/biocbuild/R/R/bin/R CMD INSTALL geneAttribution StartedAt: 2025-10-13 20:59:59 -0000 (Mon, 13 Oct 2025) EndedAt: 2025-10-13 21:00:47 -0000 (Mon, 13 Oct 2025) EllapsedTime: 48.3 seconds RetCode: 0 Status: OK