Package: geneAttribution Version: 1.34.0 Command: /home/biocbuild/R/R/bin/R CMD check --install=check:geneAttribution.install-out.txt --library=/home/biocbuild/R/R/site-library --no-vignettes --timings geneAttribution_1.34.0.tar.gz StartedAt: 2025-10-14 09:23:50 -0000 (Tue, 14 Oct 2025) EndedAt: 2025-10-14 09:30:01 -0000 (Tue, 14 Oct 2025) EllapsedTime: 370.3 seconds RetCode: 0 Status: OK CheckDir: geneAttribution.Rcheck Warnings: 0