Package: geneAttribution Version: 1.34.0 Command: /home/biocbuild/R/R/bin/R CMD build --keep-empty-dirs --no-resave-data geneAttribution StartedAt: 2025-10-14 01:02:19 -0000 (Tue, 14 Oct 2025) EndedAt: 2025-10-14 01:03:08 -0000 (Tue, 14 Oct 2025) EllapsedTime: 49.0 seconds RetCode: 0 Status: OK PackageFile: geneAttribution_1.34.0.tar.gz PackageFileSize: 39.81 KiB