Package: geneAttribution Version: 1.34.0 Command: /Library/Frameworks/R.framework/Resources/bin/R CMD check --install=check:geneAttribution.install-out.txt --library=/Library/Frameworks/R.framework/Resources/library --no-vignettes --timings geneAttribution_1.34.0.tar.gz StartedAt: 2025-10-14 22:24:27 -0400 (Tue, 14 Oct 2025) EndedAt: 2025-10-14 22:29:22 -0400 (Tue, 14 Oct 2025) EllapsedTime: 294.7 seconds RetCode: 0 Status: OK CheckDir: geneAttribution.Rcheck Warnings: 0