Package: geneAttribution Version: 1.34.0 Command: rm -rf geneAttribution.buildbin-libdir && mkdir geneAttribution.buildbin-libdir && /Users/biocbuild/BBS/utils/build-universal.sh geneAttribution_1.34.0.tar.gz /Library/Frameworks/R.framework/Resources/bin/R geneAttribution.buildbin-libdir StartedAt: 2025-10-15 18:36:35 -0400 (Wed, 15 Oct 2025) EndedAt: 2025-10-15 18:37:19 -0400 (Wed, 15 Oct 2025) EllapsedTime: 43.9 seconds RetCode: 0 Status: OK PackageFile: geneAttribution_1.34.0.tgz PackageFileSize: 64.3 KiB