Package: genArise Version: 1.85.0 Command: /home/biocbuild/R/R/bin/R CMD check --install=check:genArise.install-out.txt --library=/home/biocbuild/R/R/site-library --no-vignettes --timings genArise_1.85.0.tar.gz StartedAt: 2025-10-17 09:17:25 -0000 (Fri, 17 Oct 2025) EndedAt: 2025-10-17 09:18:03 -0000 (Fri, 17 Oct 2025) EllapsedTime: 38.0 seconds RetCode: 0 Status: WARNINGS CheckDir: genArise.Rcheck Warnings: 1