Package: genArise Version: 1.85.0 Command: /home/biocbuild/R/R/bin/R CMD build --keep-empty-dirs --no-resave-data genArise StartedAt: 2025-10-20 23:55:39 -0000 (Mon, 20 Oct 2025) EndedAt: 2025-10-20 23:55:53 -0000 (Mon, 20 Oct 2025) EllapsedTime: 14.0 seconds RetCode: 0 Status: OK PackageFile: genArise_1.85.0.tar.gz PackageFileSize: 1.01 MiB