Package: genArise Version: 1.86.0 Command: /home/biocbuild/bbs-3.22-bioc/R/bin/R CMD INSTALL genArise StartedAt: 2025-10-31 15:12:45 -0400 (Fri, 31 Oct 2025) EndedAt: 2025-10-31 15:13:15 -0400 (Fri, 31 Oct 2025) EllapsedTime: 29.4 seconds RetCode: 0 Status: OK