Package: genArise Version: 1.86.0 Command: /home/biocbuild/bbs-3.22-bioc/R/bin/R CMD check --install=check:genArise.install-out.txt --library=/home/biocbuild/bbs-3.22-bioc/R/site-library --timings genArise_1.86.0.tar.gz StartedAt: 2025-11-04 23:51:32 -0500 (Tue, 04 Nov 2025) EndedAt: 2025-11-04 23:52:06 -0500 (Tue, 04 Nov 2025) EllapsedTime: 34.0 seconds RetCode: 0 Status: WARNINGS CheckDir: genArise.Rcheck Warnings: 1