Package: genArise Version: 1.84.0 Command: /home/biocbuild/bbs-3.21-bioc/R/bin/R CMD INSTALL genArise StartedAt: 2025-10-12 15:04:40 -0400 (Sun, 12 Oct 2025) EndedAt: 2025-10-12 15:05:08 -0400 (Sun, 12 Oct 2025) EllapsedTime: 28.1 seconds RetCode: 0 Status: OK