Package: genArise Version: 1.84.0 Command: /home/biocbuild/bbs-3.21-bioc/R/bin/R CMD build --keep-empty-dirs --no-resave-data genArise StartedAt: 2025-10-12 17:37:34 -0400 (Sun, 12 Oct 2025) EndedAt: 2025-10-12 17:37:45 -0400 (Sun, 12 Oct 2025) EllapsedTime: 11.0 seconds RetCode: 0 Status: OK PackageFile: genArise_1.84.0.tar.gz PackageFileSize: 1.023 MiB