Package: genArise Version: 1.84.0 Command: /Library/Frameworks/R.framework/Resources/bin/R CMD INSTALL genArise StartedAt: 2025-04-21 15:02:35 -0400 (Mon, 21 Apr 2025) EndedAt: 2025-04-21 15:02:43 -0400 (Mon, 21 Apr 2025) EllapsedTime: 8.5 seconds RetCode: 0 Status: OK