Package: genArise Version: 1.84.0 Command: rm -rf genArise.buildbin-libdir && mkdir genArise.buildbin-libdir && /Users/biocbuild/BBS/utils/build-universal.sh genArise_1.84.0.tar.gz /Library/Frameworks/R.framework/Resources/bin/R genArise.buildbin-libdir StartedAt: 2025-04-21 22:36:07 -0400 (Mon, 21 Apr 2025) EndedAt: 2025-04-21 22:36:14 -0400 (Mon, 21 Apr 2025) EllapsedTime: 7.2 seconds RetCode: 0 Status: OK PackageFile: genArise_1.84.0.tgz PackageFileSize: 1.247 MiB