Package: genArise Version: 1.84.0 Command: /Library/Frameworks/R.framework/Resources/bin/R CMD INSTALL genArise StartedAt: 2025-10-09 15:13:09 -0400 (Thu, 09 Oct 2025) EndedAt: 2025-10-09 15:13:26 -0400 (Thu, 09 Oct 2025) EllapsedTime: 16.0 seconds RetCode: 0 Status: OK