Package: genArise Version: 1.84.0 Command: /Library/Frameworks/R.framework/Resources/bin/R CMD build --keep-empty-dirs --no-resave-data genArise StartedAt: 2025-10-10 01:04:16 -0400 (Fri, 10 Oct 2025) EndedAt: 2025-10-10 01:04:33 -0400 (Fri, 10 Oct 2025) EllapsedTime: 17.0 seconds RetCode: 0 Status: OK PackageFile: genArise_1.84.0.tar.gz PackageFileSize: 1.023 MiB