Package: gcrma Version: 2.80.0 Command: rm -rf gcrma.buildbin-libdir && mkdir gcrma.buildbin-libdir && E:\biocbuild\bbs-3.21-bioc\R\bin\R.exe CMD INSTALL --build --library=gcrma.buildbin-libdir gcrma_2.80.0.tar.gz StartedAt: 2025-08-15 09:19:52 -0400 (Fri, 15 Aug 2025) EndedAt: 2025-08-15 09:20:14 -0400 (Fri, 15 Aug 2025) EllapsedTime: 22.9 seconds RetCode: 0 Status: OK PackageFile: gcrma_2.80.0.zip PackageFileSize: 258.1 KiB