Package: gcrma Version: 2.80.0 Command: /home/biocbuild/bbs-3.21-bioc/R/bin/R CMD check --install=check:gcrma.install-out.txt --library=/home/biocbuild/bbs-3.21-bioc/R/site-library --timings gcrma_2.80.0.tar.gz StartedAt: 2025-10-15 23:24:54 -0400 (Wed, 15 Oct 2025) EndedAt: 2025-10-15 23:26:37 -0400 (Wed, 15 Oct 2025) EllapsedTime: 103.1 seconds RetCode: 0 Status: OK CheckDir: gcrma.Rcheck Warnings: 0