Package: gcrma Version: 2.80.0 Command: /Library/Frameworks/R.framework/Resources/bin/R CMD INSTALL gcrma StartedAt: 2025-10-13 15:27:29 -0400 (Mon, 13 Oct 2025) EndedAt: 2025-10-13 15:27:54 -0400 (Mon, 13 Oct 2025) EllapsedTime: 25.6 seconds RetCode: 0 Status: OK