Package: gcrma Version: 2.80.0 Command: /home/biocbuild/R/R/bin/R CMD check --install=check:gcrma.install-out.txt --library=/home/biocbuild/R/R/site-library --no-vignettes --timings gcrma_2.80.0.tar.gz StartedAt: 2025-10-14 09:19:19 -0000 (Tue, 14 Oct 2025) EndedAt: 2025-10-14 09:21:35 -0000 (Tue, 14 Oct 2025) EllapsedTime: 136.1 seconds RetCode: 0 Status: OK CheckDir: gcrma.Rcheck Warnings: 0