Package: gcrma Version: 2.80.0 Maintainer: Z. Wu MaintainerEmail: zwu at stat.brown.edu git_url: https://git.bioconductor.org/packages/gcrma git_branch: RELEASE_3_21 git_last_commit: 7ae57bb git_last_commit_date: 2025-04-15 09:16:37 -0400 (Tue, 15 Apr 2025)