Package: gcatest Version: 2.9.0 Command: F:\biocbuild\bbs-3.22-bioc\R\bin\R.exe CMD INSTALL gcatest StartedAt: 2025-08-14 15:23:02 -0400 (Thu, 14 Aug 2025) EndedAt: 2025-08-14 15:23:12 -0400 (Thu, 14 Aug 2025) EllapsedTime: 10.2 seconds RetCode: 0 Status: OK